BEGIN:VCALENDAR
VERSION:2.0
PRODID:DPCALENDAR
CALSCALE:GREGORIAN
BEGIN:VTIMEZONE
TZID:America/Denver
X-MICROSOFT-CDO-TZID:12
BEGIN:STANDARD
DTSTART:20251102T080000
TZOFFSETFROM:-0600
TZOFFSETTO:-0700
TZNAME:MST
END:STANDARD
BEGIN:DAYLIGHT
DTSTART:20260308T090000
TZOFFSETFROM:-0700
TZOFFSETTO:-0600
TZNAME:MDT
END:DAYLIGHT
BEGIN:STANDARD
DTSTART:20261101T080000
TZOFFSETFROM:-0600
TZOFFSETTO:-0700
TZNAME:MST
END:STANDARD
END:VTIMEZONE
X-WR-TIMEZONE:America/Denver
BEGIN:VEVENT
DTSTART;VALUE=DATE:20260422
DTEND;VALUE=DATE:20260427
UID:57950933om94fin46oms3vqemg@google.com
SUMMARY:Honor Band Tour - Salt Lake City
DTSTAMP:20260112T202845Z
DESCRIPTION:Alec is driving charter
X-ALT-DESC;FMTTYPE=text/html:Alec is driving charter
LAST-MODIFIED:20260416T144548Z
X-ACCESS:1
X-HITS:0
X-URL:https://www.google.com/calendar/event?eid=NTc5NTA5MzNvbTk0ZmluNDZvbXMzdnFlbWcgam9saWV0LmsxMi5tdC51c19mdjFtY25jZTI3cDc1cGJxczdpYTQ0YmNhNEBn
X-COLOR:16a765
END:VEVENT
END:VCALENDAR